BEGIN:VCALENDAR
VERSION:2.0
PRODID:-//CERN//INDICO//EN
BEGIN:VEVENT
SUMMARY:Absolvent*innen summa cum laude 2025/2026 (vom 01.10.2025 bis zum 
 30.09.2026)
DTSTART:20260601T060000Z
DTEND:20261022T215900Z
DTSTAMP:20260423T024400Z
UID:indico-event-882@indico.uni-muenster.de
DESCRIPTION:Speakers: Barbara Wicher\, Claudia Erpenstein\, Marleen Knippi
 ng\, Silvia Fraccaro\n\nhttps://indico.uni-muenster.de/event/882/
URL:https://indico.uni-muenster.de/event/882/
END:VEVENT
END:VCALENDAR
