BEGIN:VCALENDAR
VERSION:2.0
PRODID:-//CERN//INDICO//EN
BEGIN:VEVENT
SUMMARY:Erster SmartMatters4You Workshop: Experimente mit Nanomaterialien
DTSTART:20260509T070000Z
DTEND:20260509T130000Z
DTSTAMP:20260424T152800Z
UID:indico-event-4160@indico.uni-muenster.de
CONTACT:smartmatters4you@uni-muenster.de
DESCRIPTION:Speakers: Marina Hiro Janczak\n\nHier könnt ihr euch für den
  Workshop "Experimente mit Nanomaterialien" anmelden. Dafür stehen zwei T
 ermine zur Auswahl. Der Workshop dauert jeweils von 9:00 bis 15:00 Uhr und
  findet im MExLab ExperiMINTe an der Corrensstraße 2 in 48149 Münster st
 att.\nVoraussetzung für den Erhalt eines Teilnahmezertifikats ist neben d
 er Teilnahme an mindestens zwei @Work-Events die Teilnahme am Workshop "Ex
 perimente mit Nanomaterialien" und am Workshop "Smarte Materialien". Ausna
 hmen werden im Krankheitsfall akzeptiert. Melde dich bitte ab für den Fal
 l\, dass du nicht kommst.\nDer Workshop "Smarte Materialien" wird im Novem
 ber stattfinden. Auch hier werden euch zu einem späteren Zeitpunkt zwei T
 ermine zur Auswahl gestellt.\n\nhttps://indico.uni-muenster.de/event/4160/
LOCATION:MExLab ExperiMINTe\, Corrensstraße 2\, 48149 Münster
URL:https://indico.uni-muenster.de/event/4160/
END:VEVENT
END:VCALENDAR
