BEGIN:VCALENDAR
VERSION:2.0
PRODID:-//CERN//INDICO//EN
BEGIN:VEVENT
SUMMARY:We are International Outdoor Spieleabend
DTSTART:20260520T160000Z
DTEND:20260520T180000Z
DTSTAMP:20260424T183800Z
UID:indico-event-4158@indico.uni-muenster.de
DESCRIPTION:Outdoor Spieleabend \nHabt ihr Lust auf einen entspannten Aben
 d draußen? Dann kommt am 20.05.2026 um 18:00 Uhr zu unserem Outdoor-Spiel
 eabend im Botanicum! Wir spielen Kubb und XXL Jenga und genießen dabei le
 ckeres Eis. 🌞🍦\nDie Teilnahme ist kostenlos\, aber meldet euch bitte
  kurz an\, damit wir besser planen können. Kommt vorbei\, habt Spaß und 
 lernt neue Leute kennen!\nDatum: 20.05.2026Uhrzeit: 18:00 UhrOrt: Botanicu
 m International Student LoungeTeilnahme kostenlos\n_______________________
 __________________\nOutdoor game night\nLooking for a chill evening outdoo
 rs? Join us on May 20\, 2026 at 6:00 PM for our outdoor game night at the 
 Botanicum! We’ll play games like Kubb and XXL Jenga and enjoy some tasty
  ice cream. 🌞🍦\nParticipation is free\, but please sign up in advanc
 e so we can plan accordingly. Come by\, have fun\, and meet new people!\nD
 ate: May 20\, 2026Time: 6:00 PMLocation: Botanicum International Student L
 oungeCost: free\n\nhttps://indico.uni-muenster.de/event/4158/
LOCATION:International Student Lounge  (Botanicum)
URL:https://indico.uni-muenster.de/event/4158/
END:VEVENT
END:VCALENDAR
