BEGIN:VCALENDAR
VERSION:2.0
PRODID:-//CERN//INDICO//EN
BEGIN:VEVENT
SUMMARY:UNIcert Zertifikat (I\, II\, III) Gebühr (Sommersemester 2026)
DTSTART:20260415T220000Z
DTEND:20261014T180000Z
DTSTAMP:20260424T212600Z
UID:indico-event-4156@indico.uni-muenster.de
DESCRIPTION:Speakers: Edeltraud Schröder\n\nWenn Sie beim Sprachenzentrum
  ein UNIcert-Zertifikat der Stufe I\, II oder III beantragt haben und von 
 der Koordinatorin der betreffenden Sprache die Zusage erhalten\, dass Sie 
 die Voraussetzungen erfüllen und Sie nur noch die Prüfungsgebühr bezahl
 en müssen\, melden Sie sich bitte hier an …\n\nhttps://indico.uni-muens
 ter.de/event/4156/
URL:https://indico.uni-muenster.de/event/4156/
END:VEVENT
END:VCALENDAR
