BEGIN:VCALENDAR
VERSION:2.0
PRODID:-//CERN//INDICO//EN
BEGIN:VEVENT
SUMMARY:Webpräsenz des Physikalischen Instituts
DTSTART:20260415T110000Z
DTEND:20260415T130000Z
DTSTAMP:20260423T044500Z
UID:indico-event-4154@indico.uni-muenster.de
DESCRIPTION:Neugestaltung unserer Webseite: Ihre Meinung zählt!\nLiebe Mi
 tglieder und Freunde des Physikalischen Instituts\,\nwir arbeiten aktuell 
 an einer umfassenden Neugestaltung unserer Instituts-Webseite. Unser Ziel 
 ist es\, eine moderne\, benutzerfreundliche und informative Plattform zu s
 chaffen\, die den Bedürfnissen aller Nutzergruppen gerecht wird – vom E
 rstsemester bis zur Professorin.\nUm dies zu erreichen\, brauchen wir Ihre
  Unterstützung. In dieser Umfrage möchten wir erfahren\, welche Informat
 ionen für Sie im Alltag entscheidend sind\, wie Sie unser Institut wahrne
 hmen und welche Vision Sie für unsere zukünftige digitale Identität hab
 en.\nWichtige Hinweise:\n\n\nDauer: Die Beantwortung nimmt etwa 5 bis 15 M
 inuten in Anspruch.\n\n\nAnonymität: Ihre Teilnahme erfolgt vollkommen an
 onym. Die erhobenen Daten werden ausschließlich zur internen Planung und 
 Verbesserung der Webseite verwendet.\n\n\nFreiwillige Identifikation: Nur 
 im letzten Abschnitt haben Sie die Möglichkeit\, Ihren Namen und Ihre E-M
 ail-Adresse zu hinterlassen\, falls Sie uns bei Porträts\, Interviews ode
 r in einer Fokusgruppe unterstützen möchten. In diesem Fall werden Ihre 
 Kontaktdaten vertraulich behandelt.\n\n\nVielen Dank\, dass Sie sich die Z
 eit nehmen\, die digitale Zukunft unseres Instituts aktiv mitzugestalten!\
 n\nhttps://indico.uni-muenster.de/event/4154/
URL:https://indico.uni-muenster.de/event/4154/
END:VEVENT
END:VCALENDAR
