BEGIN:VCALENDAR
VERSION:2.0
PRODID:-//CERN//INDICO//EN
BEGIN:VEVENT
SUMMARY:M²A²-2 : Mathematical Modeling and Analysis-2
DTSTART:20260720T070000Z
DTEND:20260724T120000Z
DTSTAMP:20260425T115900Z
UID:indico-event-4148@indico.uni-muenster.de
CONTACT:dr.lueckert-ag-stevens@uni-muenster.de
DESCRIPTION:https://indico.uni-muenster.de/event/4148/
URL:https://indico.uni-muenster.de/event/4148/
END:VEVENT
END:VCALENDAR
