BEGIN:VCALENDAR
VERSION:2.0
PRODID:-//CERN//INDICO//EN
BEGIN:VEVENT
SUMMARY:Exkursion "Triathlon" (SoSe 2026)
DTSTART:20260525T060000Z
DTEND:20260529T163000Z
DTSTAMP:20260424T133700Z
UID:indico-event-4147@indico.uni-muenster.de
CONTACT:dominik.kruessmann@uni-muenster.de\;0251 83 32187
DESCRIPTION:https://indico.uni-muenster.de/event/4147/
URL:https://indico.uni-muenster.de/event/4147/
END:VEVENT
END:VCALENDAR
