BEGIN:VCALENDAR
VERSION:2.0
PRODID:-//CERN//INDICO//EN
BEGIN:VEVENT
SUMMARY:ProTalent-Rahmenprogramm: Finanzielle Intelligenz (A.S.I.)
DTSTART:20260630T140000Z
DTEND:20260630T160000Z
DTSTAMP:20260423T024400Z
UID:indico-event-4119@indico.uni-muenster.de
CONTACT:protalent@uni-muenster.de\;0251 - 83 22465
DESCRIPTION:Speakers: Stephanie Elias\, Sabrina Dirksen\n\nExklusiv für P
 roTalent-Stipendiat*innen:\nDas Thema „eigener Vermögensaufbau“ wird 
 durch das bröckelnde System der deutschen Rentenversicherung und hohe Imm
 obilienpreise immer relevanter. Dazu kommen viele Meinungen und undurchsic
 htige Infos über social media. A.S.I. erklärt die Grundlagen\, beantwort
 et Fragen und zeigt verschiedene Möglichkeiten auf\, wie man Vermögen na
 chhaltig aufbaut.\n\nhttps://indico.uni-muenster.de/event/4119/
LOCATION:Seminarraum EG (Universität Münster)
URL:https://indico.uni-muenster.de/event/4119/
END:VEVENT
END:VCALENDAR
