BEGIN:VCALENDAR
VERSION:2.0
PRODID:-//CERN//INDICO//EN
BEGIN:VEVENT
SUMMARY:ProTalent-Rahmenprogramm: Erfolgsgeheimnis der Bewerbung (A.S.I.)
DTSTART:20260602T140000Z
DTEND:20260602T160000Z
DTSTAMP:20260423T024400Z
UID:indico-event-4118@indico.uni-muenster.de
CONTACT:protalent@uni-muenster.de\;0251 - 83 22465
DESCRIPTION:Speakers: Stephanie Elias\, Sabrina Dirksen\n\nExklusiv für P
 roTalent-Stipendiat*innen:\nIn dem A.S.I. Vortrag „Erfolgsgeheimnis der 
 Bewerbung“ werden Ihnen Tipps übermittelt\, worauf man bei seinem Bewer
 bungsprozess und vor allem bei den Unterlagen achten sollte. Ziel des Vort
 rags: Die Erfolgschancen im Bewerbungsprozess verbessern!\n\nhttps://indic
 o.uni-muenster.de/event/4118/
LOCATION:Seminarraum EG (Universität Münster)
URL:https://indico.uni-muenster.de/event/4118/
END:VEVENT
END:VCALENDAR
