BEGIN:VCALENDAR
VERSION:2.0
PRODID:-//CERN//INDICO//EN
BEGIN:VEVENT
SUMMARY:Abschlussveranstaltung der Lehrreise
DTSTART:20260625T130000Z
DTEND:20260625T153000Z
DTSTAMP:20260423T024400Z
UID:indico-event-4104@indico.uni-muenster.de
CONTACT:referentin.sl@uni-muenster.de\;+49 251 83-21514
DESCRIPTION:Die Lehrreise zielt darauf ab\, gute Lehre und innovative Lehr
 projekte sichtbarer zu machen\, den Diskurs über Qualität in der Lehre z
 u fördern und den Austausch zwischen den Fachbereichen nachhaltig zu stä
 rken.\nDie gewonnenen Eindrücke werden nun im Rahmen einer Abschlussveran
 staltung präsentiert. Im Mittelpunkt steht dabei ein Film\, ergänzt durc
 h einen fachlichen Programmteil\, der Raum für Austausch und gemeinsames 
 Weiterdenken bietet.\n\nhttps://indico.uni-muenster.de/event/4104/
LOCATION:Aula (Schloss)
URL:https://indico.uni-muenster.de/event/4104/
END:VEVENT
END:VCALENDAR
