BEGIN:VCALENDAR
VERSION:2.0
PRODID:-//CERN//INDICO//EN
BEGIN:VEVENT
SUMMARY:Erasmus+ Tag
DTSTART:20260507T073000Z
DTEND:20260507T133000Z
DTSTAMP:20260424T183800Z
UID:indico-event-4072@indico.uni-muenster.de
CONTACT:anne.haeseler@uni-muenster.de\;0251 83-21912
DESCRIPTION:Sehr geehrte Erasmus+ Koordinator*innen\, IIA-Verantwortliche 
 und Praktikumskoordinator*innen\,\ndas International Office und der Career
  Service laden Sie herzlich zu einem Erasmus+ Tag an der Universität Mün
 ster im Rahmen der diesjährigen Europawochen ein.\nAm Vormittag des Erasm
 us+ Tages bieten wir einführende und vertiefende Präsentationen und Work
 shops zu verschiedenen Themen zu Erasmus+ an der Universität Münster an.
 \nAb mittags möchten wir Ihnen die Möglichkeit geben\, sich bei einem kl
 einen Imbiss und in lockerer Atmosphäre über die verschiedenen Erasmus+ 
 Förderlinien an der Universität Münster an Infoständen auszutauschen. 
 Hier können Sie Fragen stellen\, Ihre Expertise teilen und ins Gespräch 
 kommen.\nSelbstverständlich besteht die Möglichkeit\, auch nur an einzel
 nen Programmpunkten teilzunehmen.\n·         Wann: am Donnerstag\
 , den 07.05.2026 von 09:30 Uhr bis ca. 15:30 Uhr \n·         Wo: 
 Botanicum (Schlossgarten 3)\, \no   Vormittags in den Seminarräume 52-5
 6 und \no   Nachmittags bei gutem Wetter auf dem Vorplatz des Botanicums
 \, bei Regen in den Seminarräumen des Botanicums\n·         Anme
 ldung: die Registrierung erfolgt hier über Indico bis zum 30.04.2026\n \
 nFür die Planung der Veranstaltung und des Imbisses bitten wir um Anmeldu
 ng bis zum 30.04.2026.\n \nWir freuen uns auf Ihre Teilnahme und den Aust
 ausch mit Ihnen.\nMit freundlichen Grüßen\nIhr Erasmus+ Team vom Career 
 Service und International Office\n\n\nhttps://indico.uni-muenster.de/event
 /4072/
IMAGE;VALUE=URI:https://indico.uni-muenster.de/event/4072/logo-3641455875.
 png
LOCATION:Botanicum
URL:https://indico.uni-muenster.de/event/4072/
END:VEVENT
END:VCALENDAR
