BEGIN:VCALENDAR
VERSION:2.0
PRODID:-//CERN//INDICO//EN
BEGIN:VEVENT
SUMMARY:Vortragsreihe "Geos unterwegs": Eine Zeitreise in die frühe Erdge
 schichte
DTSTART:20260512T170000Z
DTEND:20260512T180000Z
DTSTAMP:20260426T042400Z
UID:indico-event-4060@indico.uni-muenster.de
CONTACT:geomuseum@uni-muenster.de\;+49 (0) 251 83-33900
DESCRIPTION:Prof. Dr. Harald Strauß\, Institut für Geologie und Paläont
 ologie\nDie Geschichte unserer Erde ist lang und komplex. Jahrhunderte der
  Forschung haben unser Verständnis der erd- und lebensgeschichtlichen Ent
 wicklung geformt. Immer wieder auf den Prüfstand gestellt\, wandelt sich 
 dieses Verständnis kontinuierlich. Gesteine\, Minerale und Fossilien habe
 n die Informationen archiviert\, mit denen wir die Erd- und Lebensgeschich
 te rekonstruieren. Diese finden wir im Gelände\, mithin ist Feldarbeit zu
  Lande und zu Wasser mehrheitlich der Beginn eines geowissenschaftlichen F
 orschungsprojektes. Folgen Sie dem Vortragenden auf eine Zeitreise in die 
 frühe Erdgeschichte.\nHarald Strauß studierte Geologie an der TU Clausth
 al und promovierte 1985 an der Universität Göttingen. Nach knapp dreijä
 hriger Postdoktorandenzeit in den USA forschte und lehrte er von 1988 bis 
 1999 an der Ruhr-Universität Bochum. Seit 1999 ist er Professor am Instit
 ut für Geologie und Paläontologie der Universität Münster und derzeit 
 Direktor des Geomuseums.\n\nhttps://indico.uni-muenster.de/event/4060/
LOCATION:Foyer (Geomuseum der Universität Münster)
URL:https://indico.uni-muenster.de/event/4060/
END:VEVENT
END:VCALENDAR
