BEGIN:VCALENDAR
VERSION:2.0
PRODID:-//CERN//INDICO//EN
BEGIN:VEVENT
SUMMARY:Kinder-Uni_„Tragen schwarze Löcher Brillen? Was Linsen und Grav
 itation verbindet.“
DTSTART:20260529T141500Z
DTEND:20260529T151500Z
DTSTAMP:20260424T155000Z
UID:indico-event-4036@indico.uni-muenster.de
CONTACT:kinderuni@uni-muenster.de
DESCRIPTION:Speakers: Kinder-Uni Münster\n\n \nWann: 29. Mai (Freitag) v
 on 16.15 bis 17.15 UhrWo: Hörsaal H3\, Schlossplatz 46\, 48143 Münster u
 nd per VideoübertragungDie Vorlesung wird zusätzlich per Video übertrag
 en. Alle angemeldeten Kinder erhalten 1 Tag vor der Veranstaltung einen Vi
 deolink.\nEine Anmeldung über das unten stehende blaue Kästchen ist bis 
 zum 28. Mai um 10 Uhr notwendig. \nWir freuen uns auf euch! Viele Grüße
 Dr. Karol Kovařík und das Team der Kinder-Uni Münster\nDie Vorlesungen 
 sind eine gemeinsame Veranstaltungsreihe von der Q.UNI - Kinder- und Jugen
 d-Uni der Universität Münster und den Westfälischen Nachrichten für Sc
 hülerinnen und Schüler ab 8 Jahren.\n\nhttps://indico.uni-muenster.de/ev
 ent/4036/
LOCATION:Hörsaal H3 (Universität Münster)
URL:https://indico.uni-muenster.de/event/4036/
END:VEVENT
END:VCALENDAR
