BEGIN:VCALENDAR
VERSION:2.0
PRODID:-//CERN//INDICO//EN
BEGIN:VEVENT
SUMMARY:Abschlussfeier des Instituts für Sportwissenschaft der Universit
 ät Münster 2026
DTSTART:20260508T140000Z
DTEND:20260508T173000Z
DTSTAMP:20260424T133700Z
UID:indico-event-4034@indico.uni-muenster.de
DESCRIPTION:https://indico.uni-muenster.de/event/4034/
URL:https://indico.uni-muenster.de/event/4034/
END:VEVENT
END:VCALENDAR
