BEGIN:VCALENDAR
VERSION:2.0
PRODID:-//CERN//INDICO//EN
BEGIN:VEVENT
SUMMARY:Anmeldung zum 2. Niveautest am 28.05.2026
DTSTART:20260527T220000Z
DTEND:20260528T100000Z
DTSTAMP:20260424T224700Z
UID:indico-event-4006@indico.uni-muenster.de
CONTACT:ldafmail@uni-muenster.de\;0251-83-32108
DESCRIPTION:Speakers: Simone Kreuzheck (Lehrgebiet Deutsch als Fremdsprach
 e - Sprachenzentrum)\, Simone Kreuzheck\, Eka Chakvetadze\, Barbara Heepen
 \n\nDer Niveautest findet in Präsenz statt. / The placement test can only
  be taken in person! \nEinen Beispieltest finden Sie hier (Pop Ups zulass
 en) / You can find a sample test here::\nhttps://www.onset.de/home/beispie
 ltest-onset-online-spracheinstufungstest/?no_cache=1&tx_sampletest_samplet
 est%5Baction%5D=show&tx_sampletest_sampletest%5Bcontroller%5D=CheckBrowser
 &cHash=6c0ec40f07b9a487179de22244151443\n \nSie können sich die Anleitun
 g downloaden / You can download the instructions.: \n\nhttps://indico.uni
 -muenster.de/event/4006/
URL:https://indico.uni-muenster.de/event/4006/
END:VEVENT
END:VCALENDAR
