BEGIN:VCALENDAR
VERSION:2.0
PRODID:-//CERN//INDICO//EN
BEGIN:VEVENT
SUMMARY:Anmeldung zum 1. Niveautest am 19.05.2026
DTSTART:20260518T220000Z
DTEND:20260519T090000Z
DTSTAMP:20260424T224700Z
UID:indico-event-4005@indico.uni-muenster.de
CONTACT:ldafmail@uni-muenster.de\;0251-83-32108
DESCRIPTION:Speakers: Simone Kreuzheck (Lehrgebiet Deutsch als Fremdsprach
 e - Sprachenzentrum)\, Simone Kreuzheck\, Eka Chakvetadze\, Barbara Heepen
 \, Anna-Luisa Eich (LDaF)\n\nDer Niveautest findet in Präsenz statt. / Th
 e placement test can only be taken in person! \nEinen Beispieltest finden
  Sie hier (Pop Ups zulassen) / You can find a sample test here::\nhttps://
 www.onset.de/home/beispieltest-onset-online-spracheinstufungstest/?no_cach
 e=1&tx_sampletest_sampletest%5Baction%5D=show&tx_sampletest_sampletest%5Bc
 ontroller%5D=CheckBrowser&cHash=6c0ec40f07b9a487179de22244151443\n \nSie 
 können sich die Anleitung downloaden / You can download the instructions.
 : \n\nhttps://indico.uni-muenster.de/event/4005/
URL:https://indico.uni-muenster.de/event/4005/
END:VEVENT
END:VCALENDAR
