BEGIN:VCALENDAR
VERSION:2.0
PRODID:-//CERN//INDICO//EN
BEGIN:VEVENT
SUMMARY:Sozialwissenschaftliche Islam-Studien im Dilemma: Zwischen wissens
 chaftlichem Anspruch und öffentlicher Erwartung
DTSTART:20260508T113000Z
DTEND:20260509T070000Z
DTSTAMP:20260426T022200Z
UID:indico-event-3876@indico.uni-muenster.de
DESCRIPTION:Die Tagung widmet sich einem zentralen Spannungsfeld der gegen
 wärtigen Sozialwissenschaften: der Frage\, wie Forschung zu Muslim*innen 
 in Deutschland inmitten politischer Erwartungen\, medialer Reaktionen und 
 gesellschaftlicher Sensibilitäten verantwortungsvoll\, differenziert und 
 zugleich mutig betrieben werden kann.\nStudien mit positiven Befunden gera
 ten schnell unter Generalverdacht islamfeindlicher Akteure\, während empi
 rische Ergebnisse\, die Probleme benennen\, häufig massiven Gegenreaktion
 en aus antirassistischen oder muslimischen Kontexten ausgesetzt sind. Wiss
 enschaftler*innen bewegen sich damit in einem schwierigen Feld widersprüc
 hlicher Erwartungen\, in dem Forschungsergebnisse oft politisch gelesen od
 er instrumentalisiert werden.\nDie Tagung bringt daher Expert*innen aus Wi
 ssenschaft\, Medien und Politik sowie Verantwortliche aus Universitäten\,
  Akademien\, Stiftungen und weiteren wissenschaftlichen Einrichtungen zusa
 mmen. Geplant sind Fachvorträge\, Erfahrungsberichte und Podiumsdiskussio
 nen\, die das Spannungsfeld zwischen wissenschaftlicher Freiheit\, gesells
 chaftlicher Verantwortung und öffentlicher Wirkungskraft beleuchten.\n\nh
 ttps://indico.uni-muenster.de/event/3876/
LOCATION: JO 1 (Johannisstraße 4)
URL:https://indico.uni-muenster.de/event/3876/
END:VEVENT
END:VCALENDAR
