BEGIN:VCALENDAR
VERSION:2.0
PRODID:-//CERN//INDICO//EN
BEGIN:VEVENT
SUMMARY:Diversitätskompetenz – eine Kompetenz für mich?
DTSTART:20260521T070000Z
DTEND:20260521T100000Z
DTSTAMP:20260424T183800Z
UID:indico-event-3858@indico.uni-muenster.de
CONTACT:petra.bettig@uni-muenster.de\;0251 83-22337
DESCRIPTION:Das gesellschaftliche Leben in Deutschland ist geprägt von ku
 ltureller Vielfalt. Jede*r von uns hat im Alltag und/oder im Berufsleben K
 ontakt mit Menschen anderer kultureller Prägung. Doch wie kann Jede*r mit
  dieser kulturellen Vielfalt umgehen? Welche Herausforderungen und Chancen
  sind damit verbunden? Und wie kann Jede*r die eigene kulturelle Vielfalt 
 in die Gesellschaft einbringen?\nDiversitätskompetenz unterstützt dabei\
 , im Umgang mit kultureller Vielfalt sicherer zu werden und das Leben in e
 iner von Diversität geprägten Gesellschaft mitgestalten zu können.\nMod
 ul 1: Diversitätskompetenz – was ist das?\nIn dem einführenden Modul g
 eht es um die verschiedenen Dimensionen von kultureller Vielfalt\, die im 
 Allgemeinen Gleichbehandlungsgesetz festgelegt wurden. Aufbauend auf dem K
 onzept von Diversitätskompetenz erarbeiten die Teilnehmenden Handlungsstr
 ategien für den Umgang mit kultureller Vielfalt. Hierbei wird auch für d
 en Umgang mit Rassismus und Diskriminierung sensibilisiert.\nModul 2: Mens
 chen mit internationaler Familiengeschichte\, Geflüchtete und Co. – die
  Bedeutung von ethnischer Herkunft\nEine wichtige Dimension von Vielfalt i
 st die ethnische Herkunft. Über 20 % der Menschen in Deutschland haben zu
 m Beispiel eine internationale Familiengeschichte. Doch was bedeutet dies 
 für den Alltag in Deutschland? Welche Ursachen von Missverständnissen gi
 bt es aufgrund von kulturellen Unterschieden und wie kann man hiermit umge
 hen? Anhand von Situationsbeispielen beschäftigen sich die Teilnehmenden 
 mit interkulturellen Missverständnissen und erarbeiten Lösungsmöglichke
 iten. Ein weiterer Teil des Moduls setzt sich mit dem Thema Alltagsrassism
 us auseinander.\nModul 3: Die Bedeutung von Religion und Weltanschauung\nD
 ie Bedeutung von Religion und Weltanschauung ist für Jede*n unterschiedli
 ch. Während Einige gar keinen Bezug zu diesem Thema haben\, ist für Ande
 re der Kirchenbesuch zu Weihnachten unerlässlich. Und bei wieder Anderen 
 bestimmt die Religion den Alltag z.B. ob ich koscher oder halal essen möc
 hte. Das Modul setzt sich mit unterschiedlichen Religionen und Weltanschau
 ungen auseinander und sensibilisiert anhand von Sprache für einen möglic
 hst wertfreien Umgang mit diesem Thema.\nModul 4: Jung und alt – was tre
 nnt\, was verbindet?\nDie Vielfaltsdimension Alter ist derzeit in den Medi
 en gerade anhand der Diskussionen um die Boomer-Generation sehr präsent. 
 Doch was bedeutet es jung bzw. alt zu sein? Welche Rolle hat man in der Ge
 sellschaft? Was verbindet junge und alte Menschen miteinander und wo gibt 
 es kulturelle Unterschiede? Das Modul zeigt die verschiedenen Aspekte von 
 Alter auf. Zudem beschäftigen sich die Teilnehmenden mit Kommunikation un
 d Konfliktlösungsstrategien\, um so eine konstruktive Diskussion des Them
 as zu ermöglichen.\nAllgemein:\nDieser Workshop steht Studierenden aller 
 Fächer offen und kann auch im Rahmen der Allgemeinen Studien absolviert w
 erden. Prüfungsleistung: In der Zeit zwischen den Blockterminen bearbeite
 n die Studierenden Aufgaben und erstellen eine Präsentation\, die sie an 
 einem der Blocktermine vorstellen und diskutieren.\nWorkshop-Termine:\nDi
 e weiteren Workshop-Termine sind am 11.06.\, 25.06. und 09.07.2026\, jewei
 ls von 9 Uhr s.t. bis 12 Uhr\, in Seminarraum 56\, Botanicum\, Schlossgart
 en 3.\nDie Kurssprache ist Deutsch.\n \n\nhttps://indico.uni-muenster.de/
 event/3858/
LOCATION:R. 56 (Botanicum)
URL:https://indico.uni-muenster.de/event/3858/
END:VEVENT
END:VCALENDAR
