BEGIN:VCALENDAR
VERSION:2.0
PRODID:-//CERN//INDICO//EN
BEGIN:VEVENT
SUMMARY:There are other ways of looking at it ... – Racism and discrimin
 ation in everyday university\, working and private life
DTSTART:20260508T070000Z
DTEND:20260508T140000Z
DTSTAMP:20260424T183800Z
UID:indico-event-3843@indico.uni-muenster.de
CONTACT:petra.bettig@uni-muenster.de\;0251 83-22337
DESCRIPTION:Even though many white people tend to suppress this fact\, mos
 t people with an international family background are repeatedly confronted
  with everyday racism. \nBut what is everyday racism? What role do the med
 ia play in it? What can I do to recognize racism and discrimination? What 
 should I pay attention to in language and imagery?  \nIn this workshop\, 
 participants use real-life examples to examine racist and discriminatory 
 images and statements\, and to analyse their origins and effects. \nBuildi
 ng on this reflection\, participants will develop strategies for using lan
 guage that is sensitive to racism and discrimination.\n \nThis workshop i
 s open to all students and can be attended as part of the General Studies.
  Assessment: During the four weeks between meetings\, participants will ca
 rry out projects they will present and discuss at the end of the course.\n
  \nThe second meeting will take place on 12.06.2026\, from 9 a.m. to 4 p.
 m.\, in seminar room 56\, Botanicum\, Schlossgarten 3.\nThe course will be
  held in English.\n \n\nhttps://indico.uni-muenster.de/event/3843/
LOCATION:Seminarraum 56 (Botanicum)
URL:https://indico.uni-muenster.de/event/3843/
END:VEVENT
END:VCALENDAR
